BEGIN:VCALENDAR
VERSION:2.0
PRODID:-//pretix//HaDiKo_Ticketshop//
BEGIN:VTIMEZONE
TZID:Europe/Berlin
BEGIN:STANDARD
DTSTART:20001029T040000
RRULE:FREQ=YEARLY;BYDAY=-1SU;BYMONTH=10
TZNAME:CET
TZOFFSETFROM:+0200
TZOFFSETTO:+0100
END:STANDARD
BEGIN:DAYLIGHT
DTSTART:20000326T030000
RRULE:FREQ=YEARLY;BYDAY=-1SU;BYMONTH=3
TZNAME:CEST
TZOFFSETFROM:+0100
TZOFFSETTO:+0200
END:DAYLIGHT
END:VTIMEZONE
BEGIN:VEVENT
UID:pretix-LR-booking-116972@lastenrad.hadiko.de
DTSTART;TZID=Europe/Berlin:20260507T130000
DTEND;TZID=Europe/Berlin:20260507T140000
DESCRIPTION:Tickets: https://lastenrad.hadiko.de/booking/116972/\nVeranstal
 ter: LaRa
DTSTAMP:20260421T041117Z
SUMMARY:Lastenrad Buchung
END:VEVENT
END:VCALENDAR
